BEGIN:VCALENDAR
VERSION:2.0
PRODID:-//Brookville Indiana Main Street - ECPv6.15.18//NONSGML v1.0//EN
CALSCALE:GREGORIAN
METHOD:PUBLISH
X-WR-CALNAME:Brookville Indiana Main Street
X-ORIGINAL-URL:https://mainstreetbrookville.org
X-WR-CALDESC:Events for Brookville Indiana Main Street
REFRESH-INTERVAL;VALUE=DURATION:PT1H
X-Robots-Tag:noindex
X-PUBLISHED-TTL:PT1H
BEGIN:VTIMEZONE
TZID:UTC
BEGIN:STANDARD
TZOFFSETFROM:+0000
TZOFFSETTO:+0000
TZNAME:UTC
DTSTART:20240101T000000
END:STANDARD
END:VTIMEZONE
BEGIN:VEVENT
DTSTART;TZID=UTC:20250215T150000
DTEND;TZID=UTC:20250215T180000
DTSTAMP:20260424T082334
CREATED:20250122T203836Z
LAST-MODIFIED:20250122T203836Z
UID:2417-1739631600-1739642400@mainstreetbrookville.org
SUMMARY:Cupid Crawl
DESCRIPTION:Brookville’s Local Restaurants & Businesses
URL:https://mainstreetbrookville.org/event/cupid-crawl/
END:VEVENT
END:VCALENDAR